BEGIN:VCALENDAR
VERSION:2.0
PRODID:-//Plone.org//NONSGML plone.app.event//EN
X-WR-TIMEZONE:US/Eastern
BEGIN:VEVENT
SUMMARY:Critchlow Alligator Sanctuary
DTSTART;TZID=US/Eastern:20220714T130000
DTEND;TZID=US/Eastern:20220714T140000
DTSTAMP:20260419T123609Z
UID:3e3f231158564a32b681fba4d5ef8bce@saas_stack_varnish:6080
CONTACT:Cheryl Kersey\, 2697565621\, threeoakspubliclibrary@yahoo.com
CREATED:20220623T181729Z
DESCRIPTION:The Critchlow Alligator Sanctuary will perform a 1-hour progra
 m with alligators!
LAST-MODIFIED:20220623T181737Z
LOCATION:Community Room
URL:https://www.threeoaks.michlibrary.org/news-events/critchlow-alligator-
 sanctuary-2
END:VEVENT
BEGIN:VTIMEZONE
TZID:US/Eastern
X-LIC-LOCATION:US/Eastern
BEGIN:DAYLIGHT
DTSTART:20220313T030000
TZNAME:EDT
TZOFFSETFROM:-0500
TZOFFSETTO:-0400
END:DAYLIGHT
END:VTIMEZONE
END:VCALENDAR
