BEGIN:VCALENDAR
VERSION:2.0
PRODID:-//Plone.org//NONSGML plone.app.event//EN
X-WR-TIMEZONE:US/Eastern
BEGIN:VEVENT
SUMMARY:Library Closed
DTSTART;VALUE=DATE:20251224
DTEND;VALUE=DATE:20251227
DTSTAMP:20260420T052724Z
UID:2439bec7cbd54adf91fe0e4c3d4a8df7@saas_stack_varnish:6080
CREATED:20250131T191309Z
LAST-MODIFIED:20250131T191320Z
URL:https://www.threeoaks.michlibrary.org/news-events/library-closed-32
END:VEVENT
END:VCALENDAR
