BEGIN:VCALENDAR
VERSION:2.0
PRODID:-//Plone.org//NONSGML plone.app.event//EN
X-WR-TIMEZONE:US/Eastern
BEGIN:VEVENT
SUMMARY:Library Closed for Memorial Day
DTSTART;VALUE=DATE:20210531
DTEND;VALUE=DATE:20210601
DTSTAMP:20260420T014353Z
UID:ca0f8e866d23409ea17582916068fd9b@saas_stack_varnish:6080
CREATED:20210316T205339Z
LAST-MODIFIED:20210316T205347Z
URL:https://www.threeoaks.michlibrary.org/news-events/library-closed-for-m
 emorial-day-1
END:VEVENT
END:VCALENDAR
