BEGIN:VCALENDAR
VERSION:2.0
PRODID:-//Plone.org//NONSGML plone.app.event//EN
X-WR-TIMEZONE:US/Eastern
BEGIN:VEVENT
SUMMARY:Library Closed for Memorial Day
DTSTART;VALUE=DATE:20210529
DTEND;VALUE=DATE:20210530
DTSTAMP:20260420T014353Z
UID:510939a640ba434a8cdbe59ddd56a91a@saas_stack_varnish:6080
CREATED:20210316T205234Z
LAST-MODIFIED:20210316T205240Z
URL:https://www.threeoaks.michlibrary.org/news-events/library-closed-for-m
 emorial-day
END:VEVENT
END:VCALENDAR
