BEGIN:VCALENDAR
VERSION:2.0
PRODID:-//Plone.org//NONSGML plone.app.event//EN
X-WR-TIMEZONE:US/Eastern
BEGIN:VEVENT
SUMMARY:Prancer movie at the library
DTSTART;TZID=US/Eastern:20251222T110000
DTEND;TZID=US/Eastern:20251222T130000
DTSTAMP:20260420T052833Z
UID:406202c0bd60457995d6e6813e9ba43f@saas_stack_varnish:6080
CREATED:20251118T180826Z
DESCRIPTION:The movie "Prancer" will be shown in the community room. Free 
 and no registration needed. Bring a snack. Movie runtime 103 minutes.
LAST-MODIFIED:20251118T180833Z
LOCATION:Community Room
URL:https://www.threeoaks.michlibrary.org/news-events/prancer-movie-at-the
 -library-4
END:VEVENT
BEGIN:VTIMEZONE
TZID:US/Eastern
X-LIC-LOCATION:US/Eastern
BEGIN:STANDARD
DTSTART:20251102T010000
TZNAME:EST
TZOFFSETFROM:-0400
TZOFFSETTO:-0500
END:STANDARD
END:VTIMEZONE
END:VCALENDAR
