BEGIN:VCALENDAR
VERSION:2.0
PRODID:-//Plone.org//NONSGML plone.app.event//EN
X-WR-TIMEZONE:US/Eastern
BEGIN:VEVENT
SUMMARY:Prancer movie at the library
DTSTART;TZID=US/Eastern:20251222T150000
DTEND;TZID=US/Eastern:20251222T164500
DTSTAMP:20260420T052443Z
UID:54c39942ed36416e89c8800995511646@saas_stack_varnish:6080
CREATED:20251118T180933Z
DESCRIPTION:The movie "Prancer" will be shown in the community room. Free 
 and no registration needed. Bring a snack. Movie runtime 103 minutes.
LAST-MODIFIED:20251118T180945Z
LOCATION:Community Room
URL:https://www.threeoaks.michlibrary.org/news-events/prancer-movie-at-the
 -library-5
END:VEVENT
BEGIN:VTIMEZONE
TZID:US/Eastern
X-LIC-LOCATION:US/Eastern
BEGIN:STANDARD
DTSTART:20251102T010000
TZNAME:EST
TZOFFSETFROM:-0400
TZOFFSETTO:-0500
END:STANDARD
END:VTIMEZONE
END:VCALENDAR
