BEGIN:VCALENDAR
VERSION:2.0
PRODID:-//Plone.org//NONSGML plone.app.event//EN
X-WR-TIMEZONE:US/Eastern
BEGIN:VEVENT
SUMMARY:Reading with Royalty
DTSTART;TZID=US/Eastern:20260219T163000
DTEND;TZID=US/Eastern:20260219T173000
DTSTAMP:20260423T101640Z
UID:3edbad4a638845518dc749ed75399a7b@saas_stack_varnish:6080
CREATED:20260213T205145Z
DESCRIPTION:Children of all ages are invited to a special Story Time with 
 Royalty from the River Valley/Three Oaks Pageant.
LAST-MODIFIED:20260213T205159Z
LOCATION:Children's Room/Community Room
URL:https://www.threeoaks.michlibrary.org/news-events/reading-with-royalty
 -1
END:VEVENT
BEGIN:VTIMEZONE
TZID:US/Eastern
X-LIC-LOCATION:US/Eastern
BEGIN:STANDARD
DTSTART:20251102T010000
TZNAME:EST
TZOFFSETFROM:-0400
TZOFFSETTO:-0500
END:STANDARD
END:VTIMEZONE
END:VCALENDAR
