BEGIN:VCALENDAR
VERSION:2.0
PRODID:-//Plone.org//NONSGML plone.app.event//EN
X-WR-TIMEZONE:US/Eastern
BEGIN:VEVENT
SUMMARY:Sarett Nature Center
DTSTART;TZID=US/Eastern:20210731T120000
DTEND;TZID=US/Eastern:20210731T124500
DTSTAMP:20260422T130755Z
UID:4aff2738ffc44e34abba6ba63951efe2@saas_stack_varnish:6080
CONTACT:Cheryl Kersey\, 2697565621\, threeoakspubliclibrary@yahoo.com
CREATED:20210619T174205Z
DESCRIPTION:Meet on the library lawn as the Sarett Nature Center's natural
 ist shares a few local animals with us.
LAST-MODIFIED:20210619T174211Z
LOCATION:Library Lawn
URL:https://www.threeoaks.michlibrary.org/news-events/sarett-nature-center
END:VEVENT
BEGIN:VTIMEZONE
TZID:US/Eastern
X-LIC-LOCATION:US/Eastern
BEGIN:DAYLIGHT
DTSTART:20210314T030000
TZNAME:EDT
TZOFFSETFROM:-0500
TZOFFSETTO:-0400
END:DAYLIGHT
END:VTIMEZONE
END:VCALENDAR
