BEGIN:VCALENDAR
VERSION:2.0
PRODID:-//Plone.org//NONSGML plone.app.event//EN
X-WR-TIMEZONE:US/Eastern
BEGIN:VEVENT
SUMMARY:STEAM-Y Summer
DTSTART;TZID=US/Eastern:20210724T120000
DTEND;TZID=US/Eastern:20210724T130000
DTSTAMP:20260422T131157Z
UID:f4339e0157f2439ebf2a118c08bc2bb2@saas_stack_varnish:6080
RRULE:FREQ=MONTHLY;COUNT=2;BYDAY=+4SA
CONTACT:Cheryl Kersey\, 2697565621\, threeoakspubliclibrary@yahoo.com
CREATED:20210619T173651Z
DESCRIPTION:Children of all ages are invited to join us for an hour of fun
  as we explore various STEAM activities together.
LAST-MODIFIED:20210619T173658Z
LOCATION:Children's Room/Community Room
URL:https://www.threeoaks.michlibrary.org/news-events/steam-y-summer-1
END:VEVENT
BEGIN:VTIMEZONE
TZID:US/Eastern
X-LIC-LOCATION:US/Eastern
BEGIN:DAYLIGHT
DTSTART:20210314T030000
TZNAME:EDT
TZOFFSETFROM:-0500
TZOFFSETTO:-0400
END:DAYLIGHT
END:VTIMEZONE
END:VCALENDAR
