BEGIN:VCALENDAR
VERSION:2.0
PRODID:-//Plone.org//NONSGML plone.app.event//EN
X-WR-TIMEZONE:US/Eastern
BEGIN:VEVENT
SUMMARY:Story Time
DTSTART;TZID=US/Eastern:20210615T103000
DTEND;TZID=US/Eastern:20210615T110000
DTSTAMP:20260420T000532Z
UID:2467e0c1443f42c4b202df757c1a07d9@saas_stack_varnish:6080
RRULE:FREQ=WEEKLY;UNTIL=20221231T000000;BYDAY=TU
EXDATE;TZID=US/Eastern:20210706T000000,20210713T000000,20210720T000000,202
 10727T000000,20210803T000000,20210810T000000
CONTACT:Cheryl Kersey\, 2697565621\, threeoakspubliclibrary@yahoo.com
CREATED:20210619T172733Z
DESCRIPTION:Children of all ages are welcome to join us for a story\, song
 s\, crafts\, and activities.
LAST-MODIFIED:20220519T191737Z
LOCATION:Children's Room/Community Room
URL:https://www.threeoaks.michlibrary.org/news-events/story-time-5
END:VEVENT
BEGIN:VTIMEZONE
TZID:US/Eastern
X-LIC-LOCATION:US/Eastern
BEGIN:DAYLIGHT
DTSTART:20210314T030000
TZNAME:EDT
TZOFFSETFROM:-0500
TZOFFSETTO:-0400
END:DAYLIGHT
END:VTIMEZONE
END:VCALENDAR
