BEGIN:VCALENDAR
VERSION:2.0
PRODID:-//Plone.org//NONSGML plone.app.event//EN
X-WR-TIMEZONE:US/Eastern
BEGIN:VEVENT
SUMMARY:Teen Tuesday Movies - "Goosebumps"
DTSTART;TZID=US/Eastern:20160621T160000
DTEND;TZID=US/Eastern:20160621T173000
DTSTAMP:20260425T005856Z
UID:b2d51449c83c453aa601c31d235d1af5@saas_stack_varnish:6080
CONTACT:Cheryl Kersey\, 2697565621\, threeoakspubliclibrary@yahoo.com
CREATED:20160531T210715Z
DESCRIPTION:ages 13-18\, snacks provided
LAST-MODIFIED:20160531T210719Z
URL:https://www.threeoaks.michlibrary.org/news-events/teen-tuesday-movies-
 goosebumps
END:VEVENT
BEGIN:VTIMEZONE
TZID:US/Eastern
X-LIC-LOCATION:US/Eastern
BEGIN:DAYLIGHT
DTSTART:20160313T030000
TZNAME:EDT
TZOFFSETFROM:-0500
TZOFFSETTO:-0400
END:DAYLIGHT
END:VTIMEZONE
END:VCALENDAR
