BEGIN:VCALENDAR
VERSION:2.0
PRODID:-//Plone.org//NONSGML plone.app.event//EN
X-WR-TIMEZONE:US/Eastern
BEGIN:VEVENT
SUMMARY:The Pillowcase Project
DTSTART;TZID=US/Eastern:20170621T130000
DTEND;TZID=US/Eastern:20170621T140000
DTSTAMP:20260420T205317Z
UID:7bf0e408f42f47fd89ab2e095d31daae@saas_stack_varnish:6080
CONTACT:Cheryl Kersey\, 2697565621\, threeoakspubliclibrary@yahoo.com
CREATED:20170404T214933Z
DESCRIPTION:The Pillowcase Project by American Red Cross for children grad
 es 1-6\; they will learn emergency preparedness skill.  Must RSVP to 756-5
 621.
LAST-MODIFIED:20170404T214940Z
LOCATION:Community Room
URL:https://www.threeoaks.michlibrary.org/news-events/the-pillowcase-proje
 ct
END:VEVENT
BEGIN:VTIMEZONE
TZID:US/Eastern
X-LIC-LOCATION:US/Eastern
BEGIN:DAYLIGHT
DTSTART:20170312T030000
TZNAME:EDT
TZOFFSETFROM:-0500
TZOFFSETTO:-0400
END:DAYLIGHT
END:VTIMEZONE
END:VCALENDAR
